BEGIN:VCALENDAR
VERSION:2.0
PRODID:-//217.160.0.198//NONSGML kigkonsult.se iCalcreator 2.20//
CALSCALE:GREGORIAN
METHOD:PUBLISH
X-WR-TIMEZONE:Europe/Berlin
BEGIN:VEVENT
UID:event280@Stadthalle Osterode am Harz 
DTSTAMP:20260423T234959Z
CATEGORIES:Ausstellungen\, Messen und Märkte
DESCRIPTION:Herbstfestival am Harz\nKategorie: Ausstellungen\, Messen und M
 ärkte\nICS-Link: https://www.osterode-stadthalle.de/index.php?option=com_j
 em&view=event&id=280:herbst-festival\n
DTSTART;TZID=Europe/Berlin:20180831T100000
DTEND;TZID=Europe/Berlin:20180902T180000
LOCATION:Ticketverkauf nur an der Tageskasse
SUMMARY:Herbstfestival am Harz
URL:https://www.osterode-stadthalle.de/index.php?option=com_jem&view=event&
 id=280:herbst-festival
END:VEVENT
END:VCALENDAR
