BEGIN:VCALENDAR
VERSION:2.0
PRODID:-//217.160.0.198//NONSGML kigkonsult.se iCalcreator 2.20//
CALSCALE:GREGORIAN
METHOD:PUBLISH
X-WR-TIMEZONE:Europe/Berlin
BEGIN:VEVENT
UID:event619@Stadthalle Osterode am Harz 
DTSTAMP:20260423T103629Z
CATEGORIES:Musik
DESCRIPTION:LEONY & CLOCKCLOCK - Live am Harz Open Air 2024\nKategorie: Mus
 ik\nICS-Link: https://www.osterode-stadthalle.de/index.php?option=com_jem&
 view=event&id=619:leony-clockclock-live-am-harz-open-air-2024\n
DTSTART;TZID=Europe/Berlin:20240817T200000
DTEND;TZID=Europe/Berlin:20240817T200000
LOCATION:Ticketverkauf in der Stadthalle und im Web-Shop\,Stadthalle Ostero
 de am Harz
SUMMARY:LEONY & CLOCKCLOCK - Live am Harz Open Air 2024
URL:https://www.osterode-stadthalle.de/index.php?option=com_jem&view=event&
 id=619:leony-clockclock-live-am-harz-open-air-2024
END:VEVENT
END:VCALENDAR
