BEGIN:VCALENDAR
VERSION:2.0
PRODID:-//217.160.0.198//NONSGML kigkonsult.se iCalcreator 2.20//
CALSCALE:GREGORIAN
METHOD:PUBLISH
X-WR-TIMEZONE:Europe/Berlin
BEGIN:VEVENT
UID:event753@Stadthalle Osterode am Harz 
DTSTAMP:20260423T181308Z
CATEGORIES:Musik
DESCRIPTION:Maite Itoiz & John Kelly - Best of 20 Years - Anniversary Tour 
 2026\nKategorie: Musik\nICS-Link: https://www.osterode-stadthalle.de/index
 .php?option=com_jem&view=event&id=753:maite-itoiz-john-kelly-best-of-20-ye
 ars-anniversary-tour-2026\n
DTSTART;TZID=Europe/Berlin:20260930T200000
DTEND;TZID=Europe/Berlin:20260930T200000
LOCATION:Ticketverkauf in der Stadthalle und im Web-Shop\,Stadthalle Ostero
 de am Harz
SUMMARY:Maite Itoiz & John Kelly - Best of 20 Years - Anniversary Tour 2026
URL:https://www.osterode-stadthalle.de/index.php?option=com_jem&view=event&
 id=753:maite-itoiz-john-kelly-best-of-20-years-anniversary-tour-2026
END:VEVENT
END:VCALENDAR
