BEGIN:VCALENDAR
VERSION:2.0
PRODID:-//217.160.0.198//NONSGML kigkonsult.se iCalcreator 2.20//
CALSCALE:GREGORIAN
METHOD:PUBLISH
X-WR-TIMEZONE:Europe/Berlin
BEGIN:VEVENT
UID:event756@Stadthalle Osterode am Harz 
DTSTAMP:20260423T181113Z
CATEGORIES:Musik
DESCRIPTION: Rock Rising - The Supreme Classic Rock Show\nKategorie: Musik
 \nICS-Link: https://www.osterode-stadthalle.de/index.php?option=com_jem&vi
 ew=event&id=756:rock-rising-the-supreme-classic-rock-show\n
DTSTART;TZID=Europe/Berlin:20261010T200000
DTEND;TZID=Europe/Berlin:20261010T200000
LOCATION:Ticketverkauf in der Stadthalle und im Web-Shop\,Stadthalle Ostero
 de am Harz
SUMMARY: Rock Rising - The Supreme Classic Rock Show
URL:https://www.osterode-stadthalle.de/index.php?option=com_jem&view=event&
 id=756:rock-rising-the-supreme-classic-rock-show
END:VEVENT
END:VCALENDAR
