BEGIN:VCALENDAR
VERSION:2.0
PRODID:-//217.160.0.198//NONSGML kigkonsult.se iCalcreator 2.20//
CALSCALE:GREGORIAN
METHOD:PUBLISH
X-WR-TIMEZONE:Europe/Berlin
BEGIN:VEVENT
UID:event757@Stadthalle Osterode am Harz 
DTSTAMP:20260423T180501Z
CATEGORIES:Musik
DESCRIPTION:SUPER ABBA - A Tribute to ABBA\nKategorie: Musik\nICS-Link: htt
 ps://www.osterode-stadthalle.de/index.php?option=com_jem&view=event&id=757
 :super-abba-a-tribute-to-abba\n
DTSTART;TZID=Europe/Berlin:20270416T200000
DTEND;TZID=Europe/Berlin:20270416T200000
LOCATION:Ticketverkauf in der Stadthalle und im Web-Shop\,Stadthalle Ostero
 de am Harz
SUMMARY:SUPER ABBA - A Tribute to ABBA
URL:https://www.osterode-stadthalle.de/index.php?option=com_jem&view=event&
 id=757:super-abba-a-tribute-to-abba
END:VEVENT
END:VCALENDAR
