BEGIN:VCALENDAR
VERSION:2.0
PRODID:-//217.160.0.198//NONSGML kigkonsult.se iCalcreator 2.20//
CALSCALE:GREGORIAN
METHOD:PUBLISH
X-WR-TIMEZONE:Europe/Berlin
BEGIN:VEVENT
UID:event758@Stadthalle Osterode am Harz 
DTSTAMP:20260423T175321Z
CATEGORIES:Kinder\, Musical
DESCRIPTION:Dibedibedab! - Das Kikaninchen-Musical\nKategorie: Kinder\, Mus
 ical\nICS-Link: https://www.osterode-stadthalle.de/index.php?option=com_je
 m&view=event&id=758:dibedibedab-das-kikaninchen-musical\n
DTSTART;TZID=Europe/Berlin:20270429T150000
DTEND;TZID=Europe/Berlin:20270429T150000
LOCATION:Ticketverkauf in der Stadthalle und im Web-Shop\,Stadthalle Ostero
 de am Harz
SUMMARY:Dibedibedab! - Das Kikaninchen-Musical
URL:https://www.osterode-stadthalle.de/index.php?option=com_jem&view=event&
 id=758:dibedibedab-das-kikaninchen-musical
END:VEVENT
END:VCALENDAR
