BEGIN:VCALENDAR
VERSION:2.0
PRODID:-//217.160.0.198//NONSGML kigkonsult.se iCalcreator 2.20//
CALSCALE:GREGORIAN
METHOD:PUBLISH
X-WR-TIMEZONE:Europe/Berlin
BEGIN:VEVENT
UID:event759@Stadthalle Osterode am Harz 
DTSTAMP:20260423T123522Z
CATEGORIES:Kinder\, Musical
DESCRIPTION: Tabaluga und Lilli - Das Musical für die ganze Familie\nKatego
 rie: Kinder\, Musical\nICS-Link: https://www.osterode-stadthalle.de/index.
 php?option=com_jem&view=event&id=759:tabaluga-und-lilli-das-musical-fuer-d
 ie-ganze-familie\n
DTSTART;TZID=Europe/Berlin:20270417T170000
DTEND;TZID=Europe/Berlin:20270417T170000
LOCATION:Ticketverkauf in der Stadthalle und im Web-Shop\,Stadthalle Ostero
 de am Harz
SUMMARY: Tabaluga und Lilli - Das Musical für die ganze Familie
URL:https://www.osterode-stadthalle.de/index.php?option=com_jem&view=event&
 id=759:tabaluga-und-lilli-das-musical-fuer-die-ganze-familie
END:VEVENT
END:VCALENDAR
