BEGIN:VCALENDAR
VERSION:2.0
PRODID:-//217.160.0.198//NONSGML kigkonsult.se iCalcreator 2.20//
CALSCALE:GREGORIAN
METHOD:PUBLISH
X-WR-TIMEZONE:Europe/Berlin
BEGIN:VEVENT
UID:event760@Stadthalle Osterode am Harz 
DTSTAMP:20260424T143625Z
CATEGORIES:Musik\, Theater
DESCRIPTION:'Pettersson kriegt Weihnachtsbesuch'\nKategorie: Musik\, Theate
 r\nICS-Link: https://www.osterode-stadthalle.de/index.php?option=com_jem&v
 iew=event&id=760:pettersson-kriegt-weihnachtsbesuch\n
DTSTART;TZID=Europe/Berlin:20261123T160000
DTEND;TZID=Europe/Berlin:20261123T160000
LOCATION:Ticketverkauf nur an der Tageskasse
SUMMARY:'Pettersson kriegt Weihnachtsbesuch'
URL:https://www.osterode-stadthalle.de/index.php?option=com_jem&view=event&
 id=760:pettersson-kriegt-weihnachtsbesuch
END:VEVENT
END:VCALENDAR
